BEGIN:VCALENDAR
VERSION:2.0
PRODID:-//eventon.com NONSGML v1.0//EN
CALSCALE:GREGORIAN
METHOD:PUBLISH
BEGIN:VEVENT
UID:69e4df82dfcf8
DTSTAMP:20260419T135826Z
DTSTART:20260429T090000Z
DTEND:20260503T090000Z
LOCATION:
SUMMARY:QUEEN POKER SERIES TROIA
DESCRIPTION:\nhttps://lacomunidadpoker.com/events/queen-poker-series-troia-
 2/
URL:https://lacomunidadpoker.com/events/queen-poker-series-troia-2/
END:VEVENT
END:VCALENDAR