BEGIN:VCALENDAR
VERSION:2.0
PRODID:-//eventon.com NONSGML v1.0//EN
CALSCALE:GREGORIAN
METHOD:PUBLISH
BEGIN:VEVENT
UID:69e6092c995cf
DTSTAMP:20260420T110828Z
DTSTART:20260304T100000Z
DTEND:20260308T100000Z
LOCATION:
SUMMARY:CAMPEONATO ANDALUZ DE POKER CÁDIZ
DESCRIPTION:\nhttps://lacomunidadpoker.com/events/campeonato-andaluz-de-pok
 er-cadiz/
URL:https://lacomunidadpoker.com/events/campeonato-andaluz-de-poker-cadiz/
END:VEVENT
END:VCALENDAR