BEGIN:VCALENDAR
VERSION:2.0
PRODID:-//eventon.com NONSGML v1.0//EN
CALSCALE:GREGORIAN
METHOD:PUBLISH
BEGIN:VEVENT
UID:69e625f80afb9
DTSTAMP:20260420T131120Z
DTSTART:20260518T080000Z
DTEND:20260524T080000Z
LOCATION:
SUMMARY:BEYOND POKER SERIES MÁLAGA
DESCRIPTION:\nhttps://lacomunidadpoker.com/events/beyond-poker-series-malag
 a/
URL:https://lacomunidadpoker.com/events/beyond-poker-series-malaga/
END:VEVENT
END:VCALENDAR