BEGIN:VCALENDAR
VERSION:2.0
PRODID:-//eventon.com NONSGML v1.0//EN
CALSCALE:GREGORIAN
METHOD:PUBLISH
BEGIN:VEVENT
UID:69e72c9ea2e27
DTSTAMP:20260421T075158Z
DTSTART:20260429T090000Z
DTEND:20260503T090000Z
LOCATION:
SUMMARY:LNP WINAMAX CASTELLÓN
DESCRIPTION:\nhttps://lacomunidadpoker.com/events/lnp-winamax-castellon/
URL:https://lacomunidadpoker.com/events/lnp-winamax-castellon/
END:VEVENT
END:VCALENDAR