BEGIN:VCALENDAR
VERSION:2.0
PRODID:-//eventon.com NONSGML v1.0//EN
CALSCALE:GREGORIAN
METHOD:PUBLISH
BEGIN:VEVENT
UID:69e743d07f140
DTSTAMP:20260421T093056Z
DTSTART:20260318T090000Z
DTEND:20260322T090000Z
LOCATION:
SUMMARY:LNP WINAMAX ORIHUELA
DESCRIPTION:\nhttps://lacomunidadpoker.com/events/lnp-winamax-orihuela/
URL:https://lacomunidadpoker.com/events/lnp-winamax-orihuela/
END:VEVENT
END:VCALENDAR