BEGIN:VCALENDAR
VERSION:2.0
PRODID:-//eventon.com NONSGML v1.0//EN
CALSCALE:GREGORIAN
METHOD:PUBLISH
BEGIN:VEVENT
UID:69e746977ea57
DTSTAMP:20260421T094247Z
DTSTART:20260311T090000Z
DTEND:20260315T090000Z
LOCATION:
SUMMARY:LNP WINAMAX MURCIA
DESCRIPTION:\nhttps://lacomunidadpoker.com/events/lnp-winamax-murcia/
URL:https://lacomunidadpoker.com/events/lnp-winamax-murcia/
END:VEVENT
END:VCALENDAR