BEGIN:VCALENDAR
VERSION:2.0
PRODID:-//eventon.com NONSGML v1.0//EN
CALSCALE:GREGORIAN
METHOD:PUBLISH
BEGIN:VEVENT
UID:69e7422f99a40
DTSTAMP:20260421T092359Z
DTSTART:20260204T080000Z
DTEND:20260208T080000Z
LOCATION:
SUMMARY:LNP WINAMAX VILLAJOYOSA
DESCRIPTION:\nhttps://lacomunidadpoker.com/events/lnp-winamax/
URL:https://lacomunidadpoker.com/events/lnp-winamax/
END:VEVENT
END:VCALENDAR