BEGIN:VCALENDAR
VERSION:2.0
PRODID:-//eventon.com NONSGML v1.0//EN
CALSCALE:GREGORIAN
METHOD:PUBLISH
BEGIN:VEVENT
UID:69e60a8c12ef0
DTSTAMP:20260420T111420Z
DTSTART:20260922T080000Z
DTEND:20260927T080000Z
LOCATION:
SUMMARY:CEP MÁLAGA POR POKERSTARS
DESCRIPTION:\nhttps://lacomunidadpoker.com/events/cep-malaga-por-pokerstars
 -2/
URL:https://lacomunidadpoker.com/events/cep-malaga-por-pokerstars-2/
END:VEVENT
END:VCALENDAR