BEGIN:VCALENDAR
VERSION:2.0
PRODID:-//eventon.com NONSGML v1.0//EN
CALSCALE:GREGORIAN
METHOD:PUBLISH
BEGIN:VEVENT
UID:69e72e4c09325
DTSTAMP:20260421T075908Z
DTSTART:20260421T180000Z
DTEND:20260426T180000Z
LOCATION:
SUMMARY:SIXERS MARBELLA BY SPORTIUM
DESCRIPTION:\nhttps://lacomunidadpoker.com/events/sixers-marbella-by-sporti
 um/
URL:https://lacomunidadpoker.com/events/sixers-marbella-by-sportium/
END:VEVENT
END:VCALENDAR