BEGIN:VCALENDAR
VERSION:2.0
PRODID:-//eventon.com NONSGML v1.0//EN
CALSCALE:GREGORIAN
METHOD:PUBLISH
BEGIN:VEVENT
UID:69e741720a0f6
DTSTAMP:20260421T092050Z
DTSTART:20260127T180000Z
DTEND:20260201T180000Z
LOCATION:
SUMMARY:SIXERS VALENCIA BY SPORTIUM
DESCRIPTION:\nhttps://lacomunidadpoker.com/events/sixers-valencia-by-sporti
 um/
URL:https://lacomunidadpoker.com/events/sixers-valencia-by-sportium/
END:VEVENT
END:VCALENDAR