BEGIN:VCALENDAR
VERSION:2.0
PRODID:-//eventon.com NONSGML v1.0//EN
CALSCALE:GREGORIAN
METHOD:PUBLISH
BEGIN:VEVENT
UID:69e75a0110856
DTSTAMP:20260421T110537Z
DTSTART:20260629T170000Z
DTEND:20260705T170000Z
LOCATION:
SUMMARY:CNP WINAMAX MURCIA
DESCRIPTION:\nhttps://lacomunidadpoker.com/events/cnp-winamax-murcia-2/
URL:https://lacomunidadpoker.com/events/cnp-winamax-murcia-2/
END:VEVENT
END:VCALENDAR