BEGIN:VCALENDAR
VERSION:2.0
PRODID:-//eventon.com NONSGML v1.0//EN
CALSCALE:GREGORIAN
METHOD:PUBLISH
BEGIN:VEVENT
UID:69e60a1186eda
DTSTAMP:20260420T111217Z
DTSTART:20250903T070000Z
DTEND:20250907T070000Z
LOCATION:
SUMMARY:LIGA NACIONAL DE POKER WINAMAX CÁDIZ
DESCRIPTION:\nhttps://lacomunidadpoker.com/events/liga-nacional-de-poker-wi
 namax-cadiz/
URL:https://lacomunidadpoker.com/events/liga-nacional-de-poker-winamax-cadiz/
END:VEVENT
END:VCALENDAR