BEGIN:VCALENDAR
VERSION:2.0
PRODID:-//eventon.com NONSGML v1.0//EN
CALSCALE:GREGORIAN
METHOD:PUBLISH
BEGIN:VEVENT
UID:69e7b142ec532
DTSTAMP:20260421T171754Z
DTSTART:20250715T120000Z
DTEND:20250720T120000Z
LOCATION:
SUMMARY:BEYOND POKER SEVILLA
DESCRIPTION:\nhttps://lacomunidadpoker.com/events/beyond-poker-sevilla/
URL:https://lacomunidadpoker.com/events/beyond-poker-sevilla/
END:VEVENT
END:VCALENDAR