BEGIN:VCALENDAR
VERSION:2.0
PRODID:-//eventon.com NONSGML v1.0//EN
CALSCALE:GREGORIAN
METHOD:PUBLISH
BEGIN:VEVENT
UID:69e644b090bf6
DTSTAMP:20260420T152224Z
DTSTART:20250218T080000Z
DTEND:20250223T080000Z
LOCATION:
SUMMARY:BEYOND POKER MADRID
DESCRIPTION:\nhttps://lacomunidadpoker.com/events/beyond-poker-madrid/
URL:https://lacomunidadpoker.com/events/beyond-poker-madrid/
END:VEVENT
END:VCALENDAR