BEGIN:VCALENDAR
VERSION:2.0
PRODID:-//eventon.com NONSGML v1.0//EN
CALSCALE:GREGORIAN
METHOD:PUBLISH
BEGIN:VEVENT
UID:69e60a5bb9a64
DTSTAMP:20260420T111331Z
DTSTART:20250328T020000Z
DTEND:20250331T020000Z
LOCATION:
SUMMARY:CAMPEONATO ANDALUZ DE POKER WINAMAX CÁDIZ
DESCRIPTION:\nhttps://lacomunidadpoker.com/events/campeonato-andaluz-de-pok
 er-winamax-cadiz/
URL:https://lacomunidadpoker.com/events/campeonato-andaluz-de-poker-winamax-cadiz/
END:VEVENT
END:VCALENDAR