BEGIN:VCALENDAR
VERSION:2.0
PRODID:-//eventon.com NONSGML v1.0//EN
CALSCALE:GREGORIAN
METHOD:PUBLISH
BEGIN:VEVENT
UID:69ec9e249439d
DTSTAMP:20260425T105740Z
DTSTART:20250805T120000Z
DTEND:20250817T120000Z
LOCATION:
SUMMARY:CEP BARCELONA POR POKERSTARS
DESCRIPTION:\nhttps://lacomunidadpoker.com/events/cep-barcelona-por-pokerst
 ars-2/
URL:https://lacomunidadpoker.com/events/cep-barcelona-por-pokerstars-2/
END:VEVENT
END:VCALENDAR