BEGIN:VCALENDAR
VERSION:2.0
PRODID:-//eventon.com NONSGML v1.0//EN
CALSCALE:GREGORIAN
METHOD:PUBLISH
BEGIN:VEVENT
UID:69ec9c55747fa
DTSTAMP:20260425T104957Z
DTSTART:20250527T120000Z
DTEND:20250601T120000Z
LOCATION:
SUMMARY:CEP MADRID POR POKERSTARS
DESCRIPTION:\nhttps://lacomunidadpoker.com/events/cep-madrid-por-pokerstars
 /
URL:https://lacomunidadpoker.com/events/cep-madrid-por-pokerstars/
END:VEVENT
END:VCALENDAR