BEGIN:VCALENDAR
VERSION:2.0
PRODID:-//eventon.com NONSGML v1.0//EN
CALSCALE:GREGORIAN
METHOD:PUBLISH
BEGIN:VEVENT
UID:69ec9d6d6a647
DTSTAMP:20260425T105437Z
DTSTART:20250305T120000Z
DTEND:20250316T120000Z
LOCATION:
SUMMARY:CEP BARCELONA POR POKERSTARS
DESCRIPTION:\nhttps://lacomunidadpoker.com/events/cep-barcelona-por-pokerst
 ars/
URL:https://lacomunidadpoker.com/events/cep-barcelona-por-pokerstars/
END:VEVENT
END:VCALENDAR