BEGIN:VCALENDAR
VERSION:2.0
PRODID:-//eventon.com NONSGML v1.0//EN
CALSCALE:GREGORIAN
METHOD:PUBLISH
BEGIN:VEVENT
UID:69e609bab8a96
DTSTAMP:20260420T111050Z
DTSTART:20240930T160000Z
DTEND:20241006T160000Z
LOCATION:
SUMMARY:SIXERS POKER SERIES BARCELONA 2024
DESCRIPTION:\nhttps://lacomunidadpoker.com/events/sixers-poker-series-barce
 lona-2024/
URL:https://lacomunidadpoker.com/events/sixers-poker-series-barcelona-2024/
END:VEVENT
END:VCALENDAR